BEGIN:VCALENDAR
VERSION:2.0
BEGIN:VEVENT
URL:https://heatseeker.oztix.com.au/outlet/event/f8235171-7675-4007-a594-d703cb1193a2
DTSTART:20260524T090000Z
DTEND:20260524T090000Z
SUMMARY:The Lost Quays
DESCRIPTION:Event details: https://heatseeker.oztix.com.au/outlet/event/f8235171-7675-4007-a594-d703cb1193a2
LOCATION:Lyric's Underground (Maylands, WA)
END:VEVENT
END:VCALENDAR