BEGIN:VCALENDAR
VERSION:2.0
BEGIN:VEVENT
URL:https://heatseeker.oztix.com.au/outlet/event/e08b49aa-5249-4ea5-8283-7713824943cd
DTSTART:20260814T110000Z
DTEND:20260814T110000Z
SUMMARY:VELVET GROOVES
DESCRIPTION:Event details: https://heatseeker.oztix.com.au/outlet/event/e08b49aa-5249-4ea5-8283-7713824943cd
LOCATION:Milk Bar (Inglewood, WA)
END:VEVENT
END:VCALENDAR