BEGIN:VCALENDAR
VERSION:2.0
BEGIN:VEVENT
URL:https://heatseeker.oztix.com.au/outlet/event/ce91bc41-2843-47d9-b0a5-abb2304c8640
DTSTART:20260516T113000Z
DTEND:20260516T113000Z
SUMMARY:In Other Words
DESCRIPTION:Event details: https://heatseeker.oztix.com.au/outlet/event/ce91bc41-2843-47d9-b0a5-abb2304c8640
LOCATION:Koorliny Arts Centre (Kwinana Town Centre, WA)
END:VEVENT
END:VCALENDAR