BEGIN:VCALENDAR
VERSION:2.0
BEGIN:VEVENT
URL:https://heatseeker.oztix.com.au/outlet/event/cda6c092-aea7-427f-944f-17e1b6e4b4a7
DTSTART:20260503T060000Z
DTEND:20260503T060000Z
SUMMARY:May The Force Be With You | Kids Family Day
DESCRIPTION:Event details: https://heatseeker.oztix.com.au/outlet/event/cda6c092-aea7-427f-944f-17e1b6e4b4a7
LOCATION:The Carine (Duncraig, WA)
END:VEVENT
END:VCALENDAR