BEGIN:VCALENDAR
VERSION:2.0
BEGIN:VEVENT
URL:https://heatseeker.oztix.com.au/outlet/event/cb6378e9-7e16-4fc6-92ee-13e153e02f35
DTSTART:20260523T060000Z
DTEND:20260523T060000Z
SUMMARY:In Other Words
DESCRIPTION:Event details: https://heatseeker.oztix.com.au/outlet/event/cb6378e9-7e16-4fc6-92ee-13e153e02f35
LOCATION:Koorliny Arts Centre (Kwinana Town Centre, WA)
END:VEVENT
END:VCALENDAR