BEGIN:VCALENDAR
VERSION:2.0
BEGIN:VEVENT
URL:https://heatseeker.oztix.com.au/outlet/event/ca33bfbf-0c82-4e02-b4ac-f3a29391bd86
DTSTART:20260425T100000Z
DTEND:20260425T100000Z
SUMMARY:Freo vs Carlton
DESCRIPTION:Event details: https://heatseeker.oztix.com.au/outlet/event/ca33bfbf-0c82-4e02-b4ac-f3a29391bd86
LOCATION:Sail & Anchor (Fremantle, WA)
END:VEVENT
END:VCALENDAR