BEGIN:VCALENDAR
VERSION:2.0
BEGIN:VEVENT
URL:https://heatseeker.oztix.com.au/outlet/event/c64bb5b3-2b38-4a18-bafd-daa5863b77d5
DTSTART:20260617T103000Z
DTEND:20260617T103000Z
SUMMARY:Starstruck '26
DESCRIPTION:Event details: https://heatseeker.oztix.com.au/outlet/event/c64bb5b3-2b38-4a18-bafd-daa5863b77d5
LOCATION:Rosemount Hotel (North Perth, WA)
END:VEVENT
END:VCALENDAR