BEGIN:VCALENDAR
VERSION:2.0
BEGIN:VEVENT
URL:https://heatseeker.oztix.com.au/outlet/event/c2b353a5-dfa1-4a5f-a5bf-52dcb01b65c4
DTSTART:20260702T233000Z
DTEND:20260702T233000Z
SUMMARY:Alex Lloyd - Celebrating 25 Years Of Watching Angels Mend
DESCRIPTION:Event details: https://heatseeker.oztix.com.au/outlet/event/c2b353a5-dfa1-4a5f-a5bf-52dcb01b65c4
LOCATION:Indian Ocean Hotel (Scarborough, WA)
END:VEVENT
END:VCALENDAR