BEGIN:VCALENDAR
VERSION:2.0
BEGIN:VEVENT
URL:https://heatseeker.oztix.com.au/outlet/event/bf06dc9b-1a05-4f68-86c1-d6be229e99ad
DTSTART:20260527T120000Z
DTEND:20260527T120000Z
SUMMARY:Ruby Delgado
DESCRIPTION:Event details: https://heatseeker.oztix.com.au/outlet/event/bf06dc9b-1a05-4f68-86c1-d6be229e99ad
LOCATION:The Bird (Northbridge, Perth, WA)
END:VEVENT
END:VCALENDAR