BEGIN:VCALENDAR
VERSION:2.0
BEGIN:VEVENT
URL:https://heatseeker.oztix.com.au/outlet/event/bd27ce75-8740-40df-8b5f-4429b84df93e
DTSTART:20260522T120000Z
DTEND:20260522T120000Z
SUMMARY:ALL TIME NO NEKO 2: WORLDS COLLIDE — OFFICIAL NEKO NATION PRE-PARTY (EMO VS ANIRAVE PERTH
DESCRIPTION:Event details: https://heatseeker.oztix.com.au/outlet/event/bd27ce75-8740-40df-8b5f-4429b84df93e
LOCATION:The Aberdeen Hotel (Northbridge, WA)
END:VEVENT
END:VCALENDAR