BEGIN:VCALENDAR
VERSION:2.0
BEGIN:VEVENT
URL:https://heatseeker.oztix.com.au/outlet/event/bab40e46-d9bb-4a9f-9a11-6573edcb7721
DTSTART:20260516T120000Z
DTEND:20260516T120000Z
SUMMARY:Michael Moss-Dans ~ Ocean Doors Single Launch
DESCRIPTION:Event details: https://heatseeker.oztix.com.au/outlet/event/bab40e46-d9bb-4a9f-9a11-6573edcb7721
LOCATION:Indian Ocean Hotel (Scarborough, WA)
END:VEVENT
END:VCALENDAR