BEGIN:VCALENDAR
VERSION:2.0
BEGIN:VEVENT
URL:https://heatseeker.oztix.com.au/outlet/event/b459a4dd-bc13-4115-bb89-50be9c9f1089
DTSTART:20260425T060000Z
DTEND:20260425T060000Z
SUMMARY:Gallipoli (PG) PRESENTED IN 35MM FILM
DESCRIPTION:Event details: https://heatseeker.oztix.com.au/outlet/event/b459a4dd-bc13-4115-bb89-50be9c9f1089
LOCATION:The Revival House Perth (Como, WA)
END:VEVENT
END:VCALENDAR