BEGIN:VCALENDAR
VERSION:2.0
BEGIN:VEVENT
URL:https://heatseeker.oztix.com.au/outlet/event/b0ca2a07-c41a-4b8d-9b2f-93b813c94645
DTSTART:20260712T093000Z
DTEND:20260712T093000Z
SUMMARY:TOOL tribute show presented by Arizona Bayswater
DESCRIPTION:Event details: https://heatseeker.oztix.com.au/outlet/event/b0ca2a07-c41a-4b8d-9b2f-93b813c94645
LOCATION:Indian Ocean Hotel (Scarborough, WA)
END:VEVENT
END:VCALENDAR