BEGIN:VCALENDAR
VERSION:2.0
BEGIN:VEVENT
URL:https://heatseeker.oztix.com.au/outlet/event/ac7e9e7b-5524-4230-8b69-f1e63e8c9635
DTSTART:20260516T120000Z
DTEND:20260516T120000Z
SUMMARY:TRIBUTES @ CLANCY’S FREO
DESCRIPTION:Event details: https://heatseeker.oztix.com.au/outlet/event/ac7e9e7b-5524-4230-8b69-f1e63e8c9635
LOCATION:Clancy's Fish Pub | Fremantle (Fremantle, WA)
END:VEVENT
END:VCALENDAR