BEGIN:VCALENDAR
VERSION:2.0
BEGIN:VEVENT
URL:https://heatseeker.oztix.com.au/outlet/event/ac1f3e0d-3bd3-4d80-8890-2736d5451a59
DTSTART:20260528T103000Z
DTEND:20260528T103000Z
SUMMARY:Chef's Table
DESCRIPTION:Event details: https://heatseeker.oztix.com.au/outlet/event/ac1f3e0d-3bd3-4d80-8890-2736d5451a59
LOCATION:Hyde Park Hotel (North Perth, WA)
END:VEVENT
END:VCALENDAR