BEGIN:VCALENDAR
VERSION:2.0
BEGIN:VEVENT
URL:https://heatseeker.oztix.com.au/outlet/event/a1016f3e-c569-49c0-87ee-b01f4498d692
DTSTART:20260612T100000Z
DTEND:20260612T100000Z
SUMMARY:EASYBEATZ
DESCRIPTION:Event details: https://heatseeker.oztix.com.au/outlet/event/a1016f3e-c569-49c0-87ee-b01f4498d692
LOCATION:Brighton Hotel (Mandurah, WA)
END:VEVENT
END:VCALENDAR