BEGIN:VCALENDAR
VERSION:2.0
BEGIN:VEVENT
URL:https://heatseeker.oztix.com.au/outlet/event/99dece18-f374-442f-bb07-5a20afa8cd90
DTSTART:20260606T110000Z
DTEND:20260606T110000Z
SUMMARY:THE SORCERERS
DESCRIPTION:Event details: https://heatseeker.oztix.com.au/outlet/event/99dece18-f374-442f-bb07-5a20afa8cd90
LOCATION:The River (Margaret River, WA)
END:VEVENT
END:VCALENDAR