BEGIN:VCALENDAR
VERSION:2.0
BEGIN:VEVENT
URL:https://heatseeker.oztix.com.au/outlet/event/8cf603af-18b6-4566-b7a9-d38f47539360
DTSTART:20260531T100000Z
DTEND:20260531T100000Z
SUMMARY:CAMP
DESCRIPTION:Event details: https://heatseeker.oztix.com.au/outlet/event/8cf603af-18b6-4566-b7a9-d38f47539360
LOCATION:Milk Bar (Inglewood, WA)
END:VEVENT
END:VCALENDAR