BEGIN:VCALENDAR
VERSION:2.0
BEGIN:VEVENT
URL:https://heatseeker.oztix.com.au/outlet/event/8bef0990-ea5d-4fac-9917-73dfa2a17cc3
DTSTART:20260509T110000Z
DTEND:20260509T110000Z
SUMMARY:Iconic Commercials Quiz
DESCRIPTION:Event details: https://heatseeker.oztix.com.au/outlet/event/8bef0990-ea5d-4fac-9917-73dfa2a17cc3
LOCATION:Peninsula Tavern (Maylands, WA)
END:VEVENT
END:VCALENDAR