BEGIN:VCALENDAR
VERSION:2.0
BEGIN:VEVENT
URL:https://heatseeker.oztix.com.au/outlet/event/8ad108c6-bc93-41d1-b160-040be56f6701
DTSTART:20260603T100000Z
DTEND:20260603T100000Z
SUMMARY:Lachlan Edinger Band @ The Bird
DESCRIPTION:Event details: https://heatseeker.oztix.com.au/outlet/event/8ad108c6-bc93-41d1-b160-040be56f6701
LOCATION:The Bird (Northbridge, Perth, WA)
END:VEVENT
END:VCALENDAR