BEGIN:VCALENDAR
VERSION:2.0
BEGIN:VEVENT
URL:https://heatseeker.oztix.com.au/outlet/event/7fe43e0b-3817-4e8b-a2ea-c7d3e861e66c
DTSTART:20260501T093000Z
DTEND:20260501T093000Z
SUMMARY:Freo vs Bulldogs
DESCRIPTION:Event details: https://heatseeker.oztix.com.au/outlet/event/7fe43e0b-3817-4e8b-a2ea-c7d3e861e66c
LOCATION:Sail & Anchor (Fremantle, WA)
END:VEVENT
END:VCALENDAR