BEGIN:VCALENDAR
VERSION:2.0
BEGIN:VEVENT
URL:https://heatseeker.oztix.com.au/outlet/event/790d9390-f406-4cd6-9b30-1440d5b5aef6
DTSTART:20260509T100000Z
DTEND:20260509T100000Z
SUMMARY:HOUSE OF DESIRES #8
DESCRIPTION:Event details: https://heatseeker.oztix.com.au/outlet/event/790d9390-f406-4cd6-9b30-1440d5b5aef6
LOCATION:201 BELOW (North Fremantle, WA)
END:VEVENT
END:VCALENDAR