BEGIN:VCALENDAR
VERSION:2.0
BEGIN:VEVENT
URL:https://heatseeker.oztix.com.au/outlet/event/768561ca-5ad2-4ee7-9f41-a6cf7de362ce
DTSTART:20260508T120000Z
DTEND:20260508T120000Z
SUMMARY:The Piranhanahs EP Launch
DESCRIPTION:Event details: https://heatseeker.oztix.com.au/outlet/event/768561ca-5ad2-4ee7-9f41-a6cf7de362ce
LOCATION:Clancy's Fish Pub | Fremantle (Fremantle, WA)
END:VEVENT
END:VCALENDAR