BEGIN:VCALENDAR
VERSION:2.0
BEGIN:VEVENT
URL:https://heatseeker.oztix.com.au/outlet/event/6e3c3a2c-dd60-441e-bfcc-35a44192763e
DTSTART:20260530T070000Z
DTEND:20260530T070000Z
SUMMARY:THROWBACK EXPERIENCE 80.90.00s Anthems + (Live ABBA Tribute Show)
DESCRIPTION:Event details: https://heatseeker.oztix.com.au/outlet/event/6e3c3a2c-dd60-441e-bfcc-35a44192763e
LOCATION:Port Beach Brewery (North Fremantle, WA)
END:VEVENT
END:VCALENDAR