BEGIN:VCALENDAR
VERSION:2.0
BEGIN:VEVENT
URL:https://heatseeker.oztix.com.au/outlet/event/6e260e82-8d06-4c30-8208-991414428a6d
DTSTART:20260626T100000Z
DTEND:20260626T100000Z
SUMMARY:Wine & Art (June 2026)
DESCRIPTION:Event details: https://heatseeker.oztix.com.au/outlet/event/6e260e82-8d06-4c30-8208-991414428a6d
LOCATION:Koorliny Arts Centre (Kwinana Town Centre, WA)
END:VEVENT
END:VCALENDAR