BEGIN:VCALENDAR
VERSION:2.0
BEGIN:VEVENT
URL:https://heatseeker.oztix.com.au/outlet/event/69c940c6-38a8-4abf-853b-00c3e925b0b2
DTSTART:20260514T100000Z
DTEND:20260514T100000Z
SUMMARY:Spanish Tapas
DESCRIPTION:Event details: https://heatseeker.oztix.com.au/outlet/event/69c940c6-38a8-4abf-853b-00c3e925b0b2
LOCATION:Wanneroo Villa Tavern (Wanneroo, WA)
END:VEVENT
END:VCALENDAR