BEGIN:VCALENDAR
VERSION:2.0
BEGIN:VEVENT
URL:https://heatseeker.oztix.com.au/outlet/event/697428a3-e87d-4593-a290-fa4eb379b0f0
DTSTART:20260515T113000Z
DTEND:20260515T113000Z
SUMMARY:In Other Words
DESCRIPTION:Event details: https://heatseeker.oztix.com.au/outlet/event/697428a3-e87d-4593-a290-fa4eb379b0f0
LOCATION:Koorliny Arts Centre (Kwinana Town Centre, WA)
END:VEVENT
END:VCALENDAR