BEGIN:VCALENDAR
VERSION:2.0
BEGIN:VEVENT
URL:https://heatseeker.oztix.com.au/outlet/event/5e77cc12-ac66-4e00-b66d-55840690525c
DTSTART:20260516T060000Z
DTEND:20260516T060000Z
SUMMARY:In Other Words
DESCRIPTION:Event details: https://heatseeker.oztix.com.au/outlet/event/5e77cc12-ac66-4e00-b66d-55840690525c
LOCATION:Koorliny Arts Centre (Kwinana Town Centre, WA)
END:VEVENT
END:VCALENDAR