BEGIN:VCALENDAR
VERSION:2.0
BEGIN:VEVENT
URL:https://heatseeker.oztix.com.au/outlet/event/558c577a-860d-40e0-b6fb-1a21cdb99155
DTSTART:20260606T100000Z
DTEND:20260606T100000Z
SUMMARY:Embrace the Beats | Embrace Inclusions 2026 Disco
DESCRIPTION:Event details: https://heatseeker.oztix.com.au/outlet/event/558c577a-860d-40e0-b6fb-1a21cdb99155
LOCATION:Shelter Brewing Co.  (Busselton, WA)
END:VEVENT
END:VCALENDAR