BEGIN:VCALENDAR
VERSION:2.0
BEGIN:VEVENT
URL:https://heatseeker.oztix.com.au/outlet/event/51d1cbbf-e41b-4acb-aded-e4caa08ab8b2
DTSTART:20260515T120000Z
DTEND:20260515T120000Z
SUMMARY:Spici Water & Friends
DESCRIPTION:Event details: https://heatseeker.oztix.com.au/outlet/event/51d1cbbf-e41b-4acb-aded-e4caa08ab8b2
LOCATION:Indian Ocean Hotel (Scarborough, WA)
END:VEVENT
END:VCALENDAR