BEGIN:VCALENDAR
VERSION:2.0
BEGIN:VEVENT
URL:https://heatseeker.oztix.com.au/outlet/event/4d8957e0-094d-4a6c-954c-b8f6b0bc3dcc
DTSTART:20260419T160000Z
DTEND:20260419T160000Z
SUMMARY:Revenge of the sixth Star Wars Quiz
DESCRIPTION:Event details: https://heatseeker.oztix.com.au/outlet/event/4d8957e0-094d-4a6c-954c-b8f6b0bc3dcc
LOCATION:Belmont Tavern - WA (Cloverdale, WA)
END:VEVENT
END:VCALENDAR