BEGIN:VCALENDAR
VERSION:2.0
BEGIN:VEVENT
URL:https://heatseeker.oztix.com.au/outlet/event/4c2f8446-bb6a-4851-9660-65f2171c3518
DTSTART:20260616T103000Z
DTEND:20260616T103000Z
SUMMARY:Starstruck '26
DESCRIPTION:Event details: https://heatseeker.oztix.com.au/outlet/event/4c2f8446-bb6a-4851-9660-65f2171c3518
LOCATION:Rosemount Hotel (North Perth, WA)
END:VEVENT
END:VCALENDAR