BEGIN:VCALENDAR
VERSION:2.0
BEGIN:VEVENT
URL:https://heatseeker.oztix.com.au/outlet/event/49369443-113a-4e1b-bf2a-8300ca928c5b
DTSTART:20260620T120000Z
DTEND:20260620T120000Z
SUMMARY:Letters to Lions 'Breaking Bread' AUS Tour
DESCRIPTION:Event details: https://heatseeker.oztix.com.au/outlet/event/49369443-113a-4e1b-bf2a-8300ca928c5b
LOCATION:Indian Ocean Hotel (Scarborough, WA)
END:VEVENT
END:VCALENDAR