BEGIN:VCALENDAR
VERSION:2.0
BEGIN:VEVENT
URL:https://heatseeker.oztix.com.au/outlet/event/476d2f0b-c9f1-4ff1-857d-d79363064ee7
DTSTART:20260428T110000Z
DTEND:20260428T110000Z
SUMMARY:TIGHTARSE TUESDAY — MEXICAN PARTY
DESCRIPTION:Event details: https://heatseeker.oztix.com.au/outlet/event/476d2f0b-c9f1-4ff1-857d-d79363064ee7
LOCATION:Market Grounds (Perth, WA)
END:VEVENT
END:VCALENDAR