BEGIN:VCALENDAR
VERSION:2.0
BEGIN:VEVENT
URL:https://heatseeker.oztix.com.au/outlet/event/45bd6929-feb7-4669-a314-87e852b73ec4
DTSTART:20260514T110000Z
DTEND:20260514T110000Z
SUMMARY:QUIZ NIGHT - Devil Wears Prada
DESCRIPTION:Event details: https://heatseeker.oztix.com.au/outlet/event/45bd6929-feb7-4669-a314-87e852b73ec4
LOCATION:Balmoral Hotel (Victoria Park, WA)
END:VEVENT
END:VCALENDAR