BEGIN:VCALENDAR
VERSION:2.0
BEGIN:VEVENT
URL:https://heatseeker.oztix.com.au/outlet/event/3d4004af-51c2-4e20-8992-51dae12e47c7
DTSTART:20260516T100000Z
DTEND:20260516T100000Z
SUMMARY:The gRaveyard Presents: Ruby Rising
DESCRIPTION:Event details: https://heatseeker.oztix.com.au/outlet/event/3d4004af-51c2-4e20-8992-51dae12e47c7
LOCATION:201 BELOW (North Fremantle, WA)
END:VEVENT
END:VCALENDAR