BEGIN:VCALENDAR
VERSION:2.0
BEGIN:VEVENT
URL:https://heatseeker.oztix.com.au/outlet/event/37ed0854-c63f-4b2f-9714-be5ec9759664
DTSTART:20260531T090000Z
DTEND:20260531T090000Z
SUMMARY:SUNDAY SESH
DESCRIPTION:Event details: https://heatseeker.oztix.com.au/outlet/event/37ed0854-c63f-4b2f-9714-be5ec9759664
LOCATION:Indian Ocean Hotel (Scarborough, WA)
END:VEVENT
END:VCALENDAR