BEGIN:VCALENDAR
VERSION:2.0
BEGIN:VEVENT
URL:https://heatseeker.oztix.com.au/outlet/event/367d8d9e-d609-437f-86ea-6a0abeea4e9f
DTSTART:20260531T060000Z
DTEND:20260531T060000Z
SUMMARY:Cocktail Workshop - Vol. 4
DESCRIPTION:Event details: https://heatseeker.oztix.com.au/outlet/event/367d8d9e-d609-437f-86ea-6a0abeea4e9f
LOCATION:The Ship Inn (Busselton, WA)
END:VEVENT
END:VCALENDAR