BEGIN:VCALENDAR
VERSION:2.0
BEGIN:VEVENT
URL:https://heatseeker.oztix.com.au/outlet/event/32518746-317a-43a8-a72d-c5dff4668932
DTSTART:20260515T110000Z
DTEND:20260515T110000Z
SUMMARY:Clear the Cellar
DESCRIPTION:Event details: https://heatseeker.oztix.com.au/outlet/event/32518746-317a-43a8-a72d-c5dff4668932
LOCATION:Gosnells Hotel (Gosnells, WA)
END:VEVENT
END:VCALENDAR