BEGIN:VCALENDAR
VERSION:2.0
BEGIN:VEVENT
URL:https://heatseeker.oztix.com.au/outlet/event/276f5295-6299-4e56-a0bb-84240c0e93c4
DTSTART:20260426T110000Z
DTEND:20260426T110000Z
SUMMARY:Solmistic
DESCRIPTION:Event details: https://heatseeker.oztix.com.au/outlet/event/276f5295-6299-4e56-a0bb-84240c0e93c4
LOCATION:Clancy's Fish Pub | Fremantle (Fremantle, WA)
END:VEVENT
END:VCALENDAR