BEGIN:VCALENDAR
VERSION:2.0
BEGIN:VEVENT
URL:https://heatseeker.oztix.com.au/outlet/event/1f816a0b-a1e7-495b-b44f-f37ef7c56cf1
DTSTART:20260618T110000Z
DTEND:20260618T110000Z
SUMMARY:The Simon & Garfunkel/Paul Simon Songbook
DESCRIPTION:Event details: https://heatseeker.oztix.com.au/outlet/event/1f816a0b-a1e7-495b-b44f-f37ef7c56cf1
LOCATION:Lyric's Underground (Maylands, WA)
END:VEVENT
END:VCALENDAR