BEGIN:VCALENDAR
VERSION:2.0
BEGIN:VEVENT
URL:https://heatseeker.oztix.com.au/outlet/event/12659c51-2e2d-4c53-bd84-3fed8639ba68
DTSTART:20260522T113000Z
DTEND:20260522T113000Z
SUMMARY:In Other Words
DESCRIPTION:Event details: https://heatseeker.oztix.com.au/outlet/event/12659c51-2e2d-4c53-bd84-3fed8639ba68
LOCATION:Koorliny Arts Centre (Kwinana Town Centre, WA)
END:VEVENT
END:VCALENDAR