BEGIN:VCALENDAR
VERSION:2.0
BEGIN:VEVENT
URL:https://heatseeker.oztix.com.au/outlet/event/0f28b64b-f6d2-418c-9d4d-45bf2d3d4088
DTSTART:20260605T113000Z
DTEND:20260605T113000Z
SUMMARY:"ROOTS" 30TH ANNIVERSARY TRIBUTE performed by ALTERED STATE | PERTH
DESCRIPTION:Event details: https://heatseeker.oztix.com.au/outlet/event/0f28b64b-f6d2-418c-9d4d-45bf2d3d4088
LOCATION:Amplifier Bar (Perth, WA)
END:VEVENT
END:VCALENDAR