BEGIN:VCALENDAR
VERSION:2.0
BEGIN:VEVENT
URL:https://heatseeker.oztix.com.au/outlet/event/02f62e42-4a6f-4b02-bcd7-f6f49e7be162
DTSTART:20260919T110000Z
DTEND:20260919T110000Z
SUMMARY:Sienna Skies "Australian Spring Tour"
DESCRIPTION:Event details: https://heatseeker.oztix.com.au/outlet/event/02f62e42-4a6f-4b02-bcd7-f6f49e7be162
LOCATION:Amplifier Bar (Perth, WA)
END:VEVENT
END:VCALENDAR